Package: NanoStringDiff Version: 1.38.0 Command: /home/biocbuild/R/R/bin/R CMD check --install=check:NanoStringDiff.install-out.txt --library=/home/biocbuild/R/R/site-library --no-vignettes --timings NanoStringDiff_1.38.0.tar.gz StartedAt: 2025-09-26 13:16:43 -0000 (Fri, 26 Sep 2025) EndedAt: 2025-09-26 13:19:18 -0000 (Fri, 26 Sep 2025) EllapsedTime: 155.4 seconds RetCode: 0 Status: WARNINGS CheckDir: NanoStringDiff.Rcheck Warnings: 1