Package: NanoMethViz Version: 3.6.0 Command: /home/biocbuild/R/R/bin/R CMD INSTALL NanoMethViz StartedAt: 2025-11-13 22:04:54 -0000 (Thu, 13 Nov 2025) EndedAt: 2025-11-13 22:06:36 -0000 (Thu, 13 Nov 2025) EllapsedTime: 102.8 seconds RetCode: 0 Status: OK