Package: NanoMethViz Version: 3.6.0 Command: /home/biocbuild/R/R/bin/R CMD build --keep-empty-dirs --no-resave-data NanoMethViz StartedAt: 2025-11-14 03:44:16 -0000 (Fri, 14 Nov 2025) EndedAt: 2025-11-14 03:48:15 -0000 (Fri, 14 Nov 2025) EllapsedTime: 239.1 seconds RetCode: 0 Status: OK PackageFile: NanoMethViz_3.6.0.tar.gz PackageFileSize: 12.83 MiB