Package: NanoMethViz Version: 3.6.0 Command: /home/biocbuild/bbs-3.22-bioc/R/bin/R CMD INSTALL NanoMethViz StartedAt: 2025-11-11 15:58:55 -0500 (Tue, 11 Nov 2025) EndedAt: 2025-11-11 16:00:11 -0500 (Tue, 11 Nov 2025) EllapsedTime: 76.1 seconds RetCode: 0 Status: OK