Package: NanoMethViz Version: 3.6.0 Command: /home/biocbuild/bbs-3.22-bioc/R/bin/R CMD build --keep-empty-dirs --no-resave-data --md5 NanoMethViz StartedAt: 2025-11-11 19:04:45 -0500 (Tue, 11 Nov 2025) EndedAt: 2025-11-11 19:07:28 -0500 (Tue, 11 Nov 2025) EllapsedTime: 163.1 seconds RetCode: 0 Status: OK PackageFile: NanoMethViz_3.6.0.tar.gz PackageFileSize: 13.4 MiB