Package: NanoMethViz Version: 3.4.0 Command: /home/biocbuild/bbs-3.21-bioc/R/bin/R CMD INSTALL NanoMethViz StartedAt: 2025-10-15 15:53:22 -0400 (Wed, 15 Oct 2025) EndedAt: 2025-10-15 15:54:35 -0400 (Wed, 15 Oct 2025) EllapsedTime: 72.8 seconds RetCode: 0 Status: OK