Package: NanoMethViz Version: 3.4.0 Command: /home/biocbuild/bbs-3.21-bioc/R/bin/R CMD build --keep-empty-dirs --no-resave-data NanoMethViz StartedAt: 2025-10-15 18:48:32 -0400 (Wed, 15 Oct 2025) EndedAt: 2025-10-15 18:51:40 -0400 (Wed, 15 Oct 2025) EllapsedTime: 188.1 seconds RetCode: 0 Status: OK PackageFile: NanoMethViz_3.4.0.tar.gz PackageFileSize: 7.67 MiB