Package: NanoMethViz Version: 3.4.0 Command: /Library/Frameworks/R.framework/Resources/bin/R CMD build --keep-empty-dirs --no-resave-data NanoMethViz StartedAt: 2025-04-21 17:07:12 -0400 (Mon, 21 Apr 2025) EndedAt: 2025-04-21 17:08:26 -0400 (Mon, 21 Apr 2025) EllapsedTime: 74.9 seconds RetCode: 0 Status: OK PackageFile: NanoMethViz_3.4.0.tar.gz PackageFileSize: 8.437 MiB