Package: NanoMethViz Version: 3.4.0 Command: /Library/Frameworks/R.framework/Resources/bin/R CMD INSTALL NanoMethViz StartedAt: 2025-10-13 18:09:55 -0400 (Mon, 13 Oct 2025) EndedAt: 2025-10-13 18:11:11 -0400 (Mon, 13 Oct 2025) EllapsedTime: 76.3 seconds RetCode: 0 Status: OK