Package: NanoMethViz Version: 3.4.0 Command: rm -rf NanoMethViz.buildbin-libdir && mkdir NanoMethViz.buildbin-libdir && /Users/biocbuild/BBS/utils/build-universal.sh NanoMethViz_3.4.0.tar.gz /Library/Frameworks/R.framework/Resources/bin/R NanoMethViz.buildbin-libdir StartedAt: 2025-10-15 19:34:22 -0400 (Wed, 15 Oct 2025) EndedAt: 2025-10-15 19:35:48 -0400 (Wed, 15 Oct 2025) EllapsedTime: 85.5 seconds RetCode: 0 Status: OK PackageFile: NanoMethViz_3.4.0.tgz PackageFileSize: 9.272 MiB