Package: NTW Version: 1.60.0 Command: /home/biocbuild/bbs-3.22-bioc/R/bin/R CMD build --keep-empty-dirs --no-resave-data --md5 NTW StartedAt: 2025-11-11 19:09:36 -0500 (Tue, 11 Nov 2025) EndedAt: 2025-11-11 19:09:48 -0500 (Tue, 11 Nov 2025) EllapsedTime: 12.0 seconds RetCode: 0 Status: OK PackageFile: NTW_1.60.0.tar.gz PackageFileSize: 873 KiB