Package: NTW Version: 1.60.0 Command: /Library/Frameworks/R.framework/Resources/bin/R CMD INSTALL NTW StartedAt: 2025-11-10 15:02:48 -0500 (Mon, 10 Nov 2025) EndedAt: 2025-11-10 15:02:58 -0500 (Mon, 10 Nov 2025) EllapsedTime: 10.1 seconds RetCode: 0 Status: OK