Package: NTW Version: 1.60.0 Command: /Library/Frameworks/R.framework/Resources/bin/R CMD build --keep-empty-dirs --no-resave-data NTW StartedAt: 2025-11-10 17:14:27 -0500 (Mon, 10 Nov 2025) EndedAt: 2025-11-10 17:14:34 -0500 (Mon, 10 Nov 2025) EllapsedTime: 6.1 seconds RetCode: 0 Status: OK PackageFile: NTW_1.60.0.tar.gz PackageFileSize: 872.1 KiB