Package: NTW Version: 1.60.0 Command: rm -rf NTW.buildbin-libdir && mkdir NTW.buildbin-libdir && /Users/biocbuild/BBS/utils/build-universal.sh NTW_1.60.0.tar.gz /Library/Frameworks/R.framework/Resources/bin/R NTW.buildbin-libdir StartedAt: 2025-11-10 23:29:50 -0500 (Mon, 10 Nov 2025) EndedAt: 2025-11-10 23:29:52 -0500 (Mon, 10 Nov 2025) EllapsedTime: 2.0 seconds RetCode: 0 Status: OK PackageFile: NTW_1.60.0.tgz PackageFileSize: 621.6 KiB