Package: NPARC Version: 1.22.0 Command: /home/biocbuild/bbs-3.22-bioc/R/bin/R CMD INSTALL NPARC StartedAt: 2025-11-11 15:13:41 -0500 (Tue, 11 Nov 2025) EndedAt: 2025-11-11 15:13:52 -0500 (Tue, 11 Nov 2025) EllapsedTime: 11.3 seconds RetCode: 0 Status: OK