Package: NPARC Version: 1.22.0 Command: /Library/Frameworks/R.framework/Resources/bin/R CMD INSTALL NPARC StartedAt: 2025-11-03 15:16:05 -0500 (Mon, 03 Nov 2025) EndedAt: 2025-11-03 15:16:29 -0500 (Mon, 03 Nov 2025) EllapsedTime: 23.7 seconds RetCode: 0 Status: OK