Package: NPARC Version: 1.20.0 Command: /home/biocbuild/R/R/bin/R CMD INSTALL NPARC StartedAt: 2025-10-13 20:20:42 -0000 (Mon, 13 Oct 2025) EndedAt: 2025-10-13 20:20:50 -0000 (Mon, 13 Oct 2025) EllapsedTime: 8.4 seconds RetCode: 0 Status: OK