Package: NPARC Version: 1.20.0 Command: /home/biocbuild/R/R/bin/R CMD build --keep-empty-dirs --no-resave-data NPARC StartedAt: 2025-10-14 03:06:18 -0000 (Tue, 14 Oct 2025) EndedAt: 2025-10-14 03:13:17 -0000 (Tue, 14 Oct 2025) EllapsedTime: 418.7 seconds RetCode: 0 Status: OK PackageFile: NPARC_1.20.0.tar.gz PackageFileSize: 2.253 MiB