Package: NOISeq Version: 2.54.0 Command: /home/biocbuild/bbs-3.22-bioc/R/bin/R CMD build --keep-empty-dirs --no-resave-data --md5 NOISeq StartedAt: 2025-11-11 19:08:02 -0500 (Tue, 11 Nov 2025) EndedAt: 2025-11-11 19:08:55 -0500 (Tue, 11 Nov 2025) EllapsedTime: 53.1 seconds RetCode: 0 Status: OK PackageFile: NOISeq_2.54.0.tar.gz PackageFileSize: 2.06 MiB