Package: NOISeq Version: 2.52.0 Command: /home/biocbuild/R/R/bin/R CMD INSTALL NOISeq StartedAt: 2025-10-13 20:24:57 -0000 (Mon, 13 Oct 2025) EndedAt: 2025-10-13 20:25:12 -0000 (Mon, 13 Oct 2025) EllapsedTime: 15.4 seconds RetCode: 0 Status: OK