Package: NBAMSeq Version: 1.26.0 Command: /home/biocbuild/R/R/bin/R CMD INSTALL NBAMSeq StartedAt: 2025-11-13 21:43:52 -0000 (Thu, 13 Nov 2025) EndedAt: 2025-11-13 21:44:31 -0000 (Thu, 13 Nov 2025) EllapsedTime: 39.2 seconds RetCode: 0 Status: OK