Package: NBAMSeq Version: 1.26.0 Command: /home/biocbuild/R/R/bin/R CMD build --keep-empty-dirs --no-resave-data NBAMSeq StartedAt: 2025-11-14 03:44:56 -0000 (Fri, 14 Nov 2025) EndedAt: 2025-11-14 03:46:10 -0000 (Fri, 14 Nov 2025) EllapsedTime: 74.0 seconds RetCode: 0 Status: OK PackageFile: NBAMSeq_1.26.0.tar.gz PackageFileSize: 282.2 KiB