Package: NBAMSeq Version: 1.26.0 Command: /home/biocbuild/bbs-3.22-bioc/R/bin/R CMD INSTALL NBAMSeq StartedAt: 2025-11-11 15:40:55 -0500 (Tue, 11 Nov 2025) EndedAt: 2025-11-11 15:41:25 -0500 (Tue, 11 Nov 2025) EllapsedTime: 30.5 seconds RetCode: 0 Status: OK