Package: NBAMSeq Version: 1.24.1 Command: /home/biocbuild/bbs-3.21-bioc/R/bin/R CMD INSTALL NBAMSeq StartedAt: 2025-10-05 15:35:57 -0400 (Sun, 05 Oct 2025) EndedAt: 2025-10-05 15:36:28 -0400 (Sun, 05 Oct 2025) EllapsedTime: 30.7 seconds RetCode: 0 Status: OK