Package: NBAMSeq Version: 1.24.1 Command: /home/biocbuild/bbs-3.21-bioc/R/bin/R CMD build --keep-empty-dirs --no-resave-data NBAMSeq StartedAt: 2025-10-01 18:52:46 -0400 (Wed, 01 Oct 2025) EndedAt: 2025-10-01 18:53:41 -0400 (Wed, 01 Oct 2025) EllapsedTime: 55.0 seconds RetCode: 0 Status: OK PackageFile: NBAMSeq_1.24.1.tar.gz PackageFileSize: 319.8 KiB