Package: NBAMSeq Version: 1.24.1 Command: /Library/Frameworks/R.framework/Resources/bin/R CMD build --keep-empty-dirs --no-resave-data NBAMSeq StartedAt: 2025-10-13 21:04:15 -0400 (Mon, 13 Oct 2025) EndedAt: 2025-10-13 21:06:17 -0400 (Mon, 13 Oct 2025) EllapsedTime: 121.7 seconds RetCode: 0 Status: OK PackageFile: NBAMSeq_1.24.1.tar.gz PackageFileSize: 351.2 KiB