Package: NBAMSeq Version: 1.24.1 Command: rm -rf NBAMSeq.buildbin-libdir && mkdir NBAMSeq.buildbin-libdir && /Users/biocbuild/BBS/utils/build-universal.sh NBAMSeq_1.24.1.tar.gz /Library/Frameworks/R.framework/Resources/bin/R NBAMSeq.buildbin-libdir StartedAt: 2025-10-14 14:14:50 -0400 (Tue, 14 Oct 2025) EndedAt: 2025-10-14 14:16:15 -0400 (Tue, 14 Oct 2025) EllapsedTime: 84.8 seconds RetCode: 0 Status: OK PackageFile: NBAMSeq_1.24.1.tgz PackageFileSize: 404.3 KiB