Package: NBAMSeq Version: 1.24.1 Command: /Library/Frameworks/R.framework/Resources/bin/R CMD INSTALL NBAMSeq StartedAt: 2025-10-02 17:11:12 -0400 (Thu, 02 Oct 2025) EndedAt: 2025-10-02 17:11:50 -0400 (Thu, 02 Oct 2025) EllapsedTime: 37.6 seconds RetCode: 0 Status: OK