Package: NBAMSeq Version: 1.24.1 Command: rm -rf NBAMSeq.buildbin-libdir && mkdir NBAMSeq.buildbin-libdir && /Users/biocbuild/BBS/utils/build-universal.sh NBAMSeq_1.24.1.tar.gz /Library/Frameworks/R.framework/Resources/bin/R NBAMSeq.buildbin-libdir StartedAt: 2025-10-04 19:03:58 -0400 (Sat, 04 Oct 2025) EndedAt: 2025-10-04 19:04:38 -0400 (Sat, 04 Oct 2025) EllapsedTime: 40.4 seconds RetCode: 0 Status: OK PackageFile: NBAMSeq_1.24.1.tgz PackageFileSize: 399.6 KiB