Package: NBAMSeq Version: 1.24.1 Maintainer: Xu Ren MaintainerEmail: xuren2120 at gmail.com git_url: https://git.bioconductor.org/packages/NBAMSeq git_branch: RELEASE_3_21 git_last_commit: 4cf2748 git_last_commit_date: 2025-05-08 12:29:06 -0400 (Thu, 08 May 2025)