Package: MutationalPatterns Version: 3.20.0 Command: /home/biocbuild/R/R/bin/R CMD INSTALL MutationalPatterns StartedAt: 2025-11-10 21:50:47 -0000 (Mon, 10 Nov 2025) EndedAt: 2025-11-10 21:51:12 -0000 (Mon, 10 Nov 2025) EllapsedTime: 25.4 seconds RetCode: 0 Status: OK