Package: MutationalPatterns Version: 3.20.0 Command: /home/biocbuild/R/R/bin/R CMD build --keep-empty-dirs --no-resave-data MutationalPatterns StartedAt: 2025-11-11 03:39:48 -0000 (Tue, 11 Nov 2025) EndedAt: 2025-11-11 03:52:38 -0000 (Tue, 11 Nov 2025) EllapsedTime: 770.3 seconds RetCode: 0 Status: OK PackageFile: MutationalPatterns_3.20.0.tar.gz PackageFileSize: 3.554 MiB