Package: MutationalPatterns Version: 3.20.0 Command: /home/biocbuild/bbs-3.22-bioc/R/bin/R CMD INSTALL MutationalPatterns StartedAt: 2025-11-11 15:47:12 -0500 (Tue, 11 Nov 2025) EndedAt: 2025-11-11 15:47:31 -0500 (Tue, 11 Nov 2025) EllapsedTime: 18.9 seconds RetCode: 0 Status: OK