Package: MutationalPatterns Version: 3.20.0 Command: /home/biocbuild/bbs-3.22-bioc/R/bin/R CMD build --keep-empty-dirs --no-resave-data --md5 MutationalPatterns StartedAt: 2025-11-11 19:03:36 -0500 (Tue, 11 Nov 2025) EndedAt: 2025-11-11 19:12:55 -0500 (Tue, 11 Nov 2025) EllapsedTime: 559.5 seconds RetCode: 0 Status: OK PackageFile: MutationalPatterns_3.20.0.tar.gz PackageFileSize: 5.695 MiB