Package: MutationalPatterns Version: 3.18.0 Command: /home/biocbuild/R/R/bin/R CMD INSTALL MutationalPatterns StartedAt: 2025-09-25 20:58:16 -0000 (Thu, 25 Sep 2025) EndedAt: 2025-09-25 20:58:41 -0000 (Thu, 25 Sep 2025) EllapsedTime: 25.2 seconds RetCode: 0 Status: OK