Package: MultiRNAflow Version: 1.8.0 Command: /home/biocbuild/R/R/bin/R CMD INSTALL MultiRNAflow StartedAt: 2025-11-13 21:29:17 -0000 (Thu, 13 Nov 2025) EndedAt: 2025-11-13 21:30:14 -0000 (Thu, 13 Nov 2025) EllapsedTime: 57.5 seconds RetCode: 0 Status: OK