Package: MultiRNAflow Version: 1.8.0 Command: /home/biocbuild/R/R/bin/R CMD build --keep-empty-dirs --no-resave-data MultiRNAflow StartedAt: 2025-11-11 03:38:45 -0000 (Tue, 11 Nov 2025) EndedAt: 2025-11-11 03:46:41 -0000 (Tue, 11 Nov 2025) EllapsedTime: 476.2 seconds RetCode: 0 Status: OK PackageFile: MultiRNAflow_1.8.0.tar.gz PackageFileSize: 3.148 MiB