Package: MultiRNAflow Version: 1.8.0 Command: /home/biocbuild/bbs-3.22-bioc/R/bin/R CMD INSTALL MultiRNAflow StartedAt: 2025-11-13 15:22:52 -0500 (Thu, 13 Nov 2025) EndedAt: 2025-11-13 15:23:37 -0500 (Thu, 13 Nov 2025) EllapsedTime: 44.8 seconds RetCode: 0 Status: OK