Package: MultiRNAflow Version: 1.8.0 Command: /home/biocbuild/bbs-3.22-bioc/R/bin/R CMD check --install=check:MultiRNAflow.install-out.txt --library=/home/biocbuild/bbs-3.22-bioc/R/site-library --timings MultiRNAflow_1.8.0.tar.gz StartedAt: 2025-11-14 02:05:22 -0500 (Fri, 14 Nov 2025) EndedAt: 2025-11-14 02:19:09 -0500 (Fri, 14 Nov 2025) EllapsedTime: 826.9 seconds RetCode: 0 Status: OK CheckDir: MultiRNAflow.Rcheck Warnings: 0