Package: MultiRNAflow Version: 1.8.0 Command: /home/biocbuild/bbs-3.22-bioc/R/bin/R CMD build --keep-empty-dirs --no-resave-data --md5 MultiRNAflow StartedAt: 2025-11-13 19:01:28 -0500 (Thu, 13 Nov 2025) EndedAt: 2025-11-13 19:06:37 -0500 (Thu, 13 Nov 2025) EllapsedTime: 309.3 seconds RetCode: 0 Status: OK PackageFile: MultiRNAflow_1.8.0.tar.gz PackageFileSize: 3.139 MiB