Package: MultiRNAflow Version: 1.6.0 Command: /Library/Frameworks/R.framework/Resources/bin/R CMD INSTALL MultiRNAflow StartedAt: 2025-10-13 15:40:06 -0400 (Mon, 13 Oct 2025) EndedAt: 2025-10-13 15:42:00 -0400 (Mon, 13 Oct 2025) EllapsedTime: 114.7 seconds RetCode: 0 Status: OK