Package: MultiRNAflow Version: 1.6.0 Command: /Library/Frameworks/R.framework/Resources/bin/R CMD build --keep-empty-dirs --no-resave-data MultiRNAflow StartedAt: 2025-10-13 21:00:29 -0400 (Mon, 13 Oct 2025) EndedAt: 2025-10-13 21:15:34 -0400 (Mon, 13 Oct 2025) EllapsedTime: 905.2 seconds RetCode: 1 Status: ERROR PackageFile: None PackageFileSize: NA