Package: MultiMed Version: 2.32.0 Command: /home/biocbuild/bbs-3.22-bioc/R/bin/R CMD check --install=check:MultiMed.install-out.txt --library=/home/biocbuild/bbs-3.22-bioc/R/site-library --timings MultiMed_2.32.0.tar.gz StartedAt: 2025-11-21 02:37:45 -0500 (Fri, 21 Nov 2025) EndedAt: 2025-11-21 02:38:08 -0500 (Fri, 21 Nov 2025) EllapsedTime: 22.0 seconds RetCode: 0 Status: OK CheckDir: MultiMed.Rcheck Warnings: 0