Package: MultiMed Version: 2.32.0 Command: rm -rf MultiMed.buildbin-libdir && mkdir MultiMed.buildbin-libdir && /Users/biocbuild/BBS/utils/build-universal.sh MultiMed_2.32.0.tar.gz /Library/Frameworks/R.framework/Resources/bin/R MultiMed.buildbin-libdir StartedAt: 2025-11-04 01:52:30 -0500 (Tue, 04 Nov 2025) EndedAt: 2025-11-04 01:52:35 -0500 (Tue, 04 Nov 2025) EllapsedTime: 4.7 seconds RetCode: 0 Status: OK PackageFile: MultiMed_2.32.0.tgz PackageFileSize: 525.1 KiB