Package: MultiMed Version: 2.30.0 Command: /home/biocbuild/R/R/bin/R CMD INSTALL MultiMed StartedAt: 2025-10-13 20:12:25 -0000 (Mon, 13 Oct 2025) EndedAt: 2025-10-13 20:12:38 -0000 (Mon, 13 Oct 2025) EllapsedTime: 13.2 seconds RetCode: 0 Status: OK