Package: MultiMed Version: 2.30.0 Command: rm -rf MultiMed.buildbin-libdir && mkdir MultiMed.buildbin-libdir && /Users/biocbuild/BBS/utils/build-universal.sh MultiMed_2.30.0.tar.gz /Library/Frameworks/R.framework/Resources/bin/R MultiMed.buildbin-libdir StartedAt: 2025-04-21 22:44:04 -0400 (Mon, 21 Apr 2025) EndedAt: 2025-04-21 22:44:06 -0400 (Mon, 21 Apr 2025) EllapsedTime: 2.0 seconds RetCode: 0 Status: OK PackageFile: MultiMed_2.30.0.tgz PackageFileSize: 525.9 KiB