Package: MultiDataSet Version: 1.38.0 Command: /home/biocbuild/R/R/bin/R CMD INSTALL MultiDataSet StartedAt: 2025-11-13 21:28:21 -0000 (Thu, 13 Nov 2025) EndedAt: 2025-11-13 21:28:53 -0000 (Thu, 13 Nov 2025) EllapsedTime: 31.6 seconds RetCode: 0 Status: OK