Package: MultiDataSet Version: 1.38.0 Command: /home/biocbuild/R/R/bin/R CMD check --install=check:MultiDataSet.install-out.txt --library=/home/biocbuild/R/R/site-library --no-vignettes --timings MultiDataSet_1.38.0.tar.gz StartedAt: 2025-11-11 12:17:45 -0000 (Tue, 11 Nov 2025) EndedAt: 2025-11-11 12:17:49 -0000 (Tue, 11 Nov 2025) EllapsedTime: 4.0 seconds RetCode: 1 Status: ERROR CheckDir: MultiDataSet.Rcheck Warnings: NA