Package: MultiDataSet Version: 1.38.0 Command: /home/biocbuild/bbs-3.22-bioc/R/bin/R CMD INSTALL MultiDataSet StartedAt: 2025-11-14 15:22:32 -0500 (Fri, 14 Nov 2025) EndedAt: 2025-11-14 15:22:58 -0500 (Fri, 14 Nov 2025) EllapsedTime: 25.5 seconds RetCode: 0 Status: OK