Package: MultiDataSet Version: 1.38.0 Command: /home/biocbuild/bbs-3.22-bioc/R/bin/R CMD check --install=check:MultiDataSet.install-out.txt --library=/home/biocbuild/bbs-3.22-bioc/R/site-library --timings MultiDataSet_1.38.0.tar.gz StartedAt: 2025-11-14 02:04:26 -0500 (Fri, 14 Nov 2025) EndedAt: 2025-11-14 02:07:49 -0500 (Fri, 14 Nov 2025) EllapsedTime: 203.2 seconds RetCode: 0 Status: WARNINGS CheckDir: MultiDataSet.Rcheck Warnings: 1